BEGIN:VCALENDAR
VERSION:2.0
PRODID:-//friendica calendar export//0.1//EN
BEGIN:VEVENT
DTSTART:20180926T000000Z
DTEND:20181003T000000Z
SUMMARY:Privacy Week Berlin 2018
DESCRIPTION:[url=https://friendica.astatu.berlin/photos/astatu/image/14527734255b5454915e52f632252349][img]https://friendica.astatu.berlin/photo/14527734255b5454915e52f632252349-1.png[/img][/url]
 
 Was?
 Eine Woche vielfältiges Programm mit Vorträgen &amp\; Workshops\, Kunst &amp\; Kultur\, Aktionen &amp\; Parties zum Thema „Privatsphäre im Digitalen Zeitalter“
 
 Wann?
 Ende September bis Anfang Oktober: 26.9. (Mi) – 03.10. (Mi) 2018
 
 Wo?
 An vielen Orten über Berlin verteilt – die Privacy Week Berlin 2018 (PWB18) ist eine dezentrale Veranstaltungswoche mit vielen unterschiedlichen Events und Beteiligten
 
 Für wen?
 Alle mit Interesse am Thema - egal ob sich damit bereits auseinandergesetzt wurde oder nicht
 
 https://privacyweek.berlin
 
 #privacy\, #pwb18\, #Zwiebelfreunde\, #berlin\, #b2609\, #b2709\, #b2809\, #b2909\, #tuberlin\, #frauenhofer\, #nextcloud\, #endstation\, #informatik
LOCATION:Berlin
END:VEVENT

END:VCALENDAR
